BEGIN:VCALENDAR
PRODID;X-RICAL-TZSOURCE=TZINFO:-//com.denhaven2/NONSGML ri_cal gem//EN
CALSCALE:GREGORIAN
VERSION:2.0
BEGIN:VEVENT
CONTACT:
DTEND;VALUE=DATE:20140224
DTSTART;VALUE=DATE:20140223
GEO:32.437591;-83.71971
UID:1977706
DESCRIPTION:This is our Middle GA SCCA 1st points event of 2014.  Lets ma
 ke this the best year ever for our little region.  Come out and have a b
 last with great people\, a great new location and lots of cone dodging g
 oodness.
URL:
SUMMARY:2014 MGA SCCA Points Event #1 
LOCATION:Perry-Houston County Airport
BEGIN:VALARM
TRIGGER:-PT15H
DESCRIPTION:2014 MGA SCCA Points Event #1 
ACTION:AUDIO
END:VALARM
END:VEVENT
END:VCALENDAR
