BEGIN:VCALENDAR
PRODID;X-RICAL-TZSOURCE=TZINFO:-//com.denhaven2/NONSGML ri_cal gem//EN
CALSCALE:GREGORIAN
VERSION:2.0
BEGIN:VEVENT
CONTACT:
DTEND;VALUE=DATE:20140127
DTSTART;VALUE=DATE:20140126
UID:1977556
DESCRIPTION:CFR SCCA Brooksville Solo (Autocross) Points Event\nThis even
 t will be held at the all concrete\, very grippy\, Brooksville/Hernando 
 County Airport in Brooksville\, FL.  This will be the 2014 Championship 
 Points event  #2.  Event trophies for each class will be awarded and cla
 ss championship points will be accrued\n\nVERY IMPORTANT: Due to site re
 strictions from the Airport\, all drivers and guests must pre-register a
 nd pre-pay for this event no later than Thursday\, January 16th. There w
 ill be NO On-SITE REGISTRATION. Drivers must register using the "Registr
 ation" link below. Guests please send first/last name and cell phone num
 ber via email to dwelsh56@hotmail.com.  \n\nGuests: Please see registrat
 ion acknowledgements for details.  \n\nNovices are always welcome! (But 
 must also pre-register) Get more novice info here: Getting Started\n\nWh
 at to Bring:\nValid Driver's License (or permit)\nValid SCCA Membership 
 Card (or proof of membership)\nNon-Members\, get your Weekend SCCA membe
 rship here on DLB\nMinors (under 18)\, bring a completed minor waiver\, 
 see details below\nWATER (it can get hot!)\n\nFood\nThere will be lunch 
 provided on thanks to our volunteer who will arrange for and pickup the 
 food!  There will be a $5 charge for each guest who wants to eat the pro
 vided lunch.\n\nSite Information\nPLEASE download the site flyer for imp
 ortant site access information (there is a download link at the bottom o
 f this page).\n\nWhy Preregister and Prepay?\nBecause for this site\, if
  you want to attend\, YOU MUST PREREGISTER and Pre-Pay.\nSee the registr
 ation acknowledgements for details on refunds/credits\n\nMinors (Under 1
 8)\nMinor drivers or riders must bring a completed\, notarized\, minor w
 aiver signed by BOTH parents. (Notary waived If both parents are present
  to sign on site)\nMinor attendees must have minor waiver completed by a
 t least one parent/guardian\nGet Minor Waiver here: Minor Waiver\n\nFees
 \n$30 Entry Fee\n$10 SCCA Weekend Membership fee for non SCCA Members
URL:
SUMMARY:CFR Solo - Brooksville Opener
LOCATION:
BEGIN:VALARM
TRIGGER:-PT15H
DESCRIPTION:CFR Solo - Brooksville Opener
ACTION:AUDIO
END:VALARM
END:VEVENT
END:VCALENDAR
