BEGIN:VCALENDAR
PRODID;X-RICAL-TZSOURCE=TZINFO:-//com.denhaven2/NONSGML ri_cal gem//EN
CALSCALE:GREGORIAN
VERSION:2.0
BEGIN:VEVENT
CONTACT:
DTEND;VALUE=DATE:20140602
DTSTART;VALUE=DATE:20140601
GEO:32.0784;-81.0966
UID:1977482
DESCRIPTION:Coastal Event #5
URL:
SUMMARY:Coastal Empire Solo Event #5
LOCATION:Hutchinson Island Raceway Paddock
BEGIN:VALARM
TRIGGER:-PT15H
DESCRIPTION:Coastal Empire Solo Event #5
ACTION:AUDIO
END:VALARM
END:VEVENT
END:VCALENDAR
