BEGIN:VCALENDAR
PRODID;X-RICAL-TZSOURCE=TZINFO:-//com.denhaven2/NONSGML ri_cal gem//EN
CALSCALE:GREGORIAN
VERSION:2.0
BEGIN:VEVENT
CONTACT:
DTEND;VALUE=DATE:20140519
DTSTART;VALUE=DATE:20140518
GEO:39.640752;-78.945642
UID:1977390
DESCRIPTION:
URL:
SUMMARY:Washington DC RallyCross Event #3
LOCATION:Gravel Parking Lot
BEGIN:VALARM
TRIGGER:-PT15H
DESCRIPTION:Washington DC RallyCross Event #3
ACTION:AUDIO
END:VALARM
END:VEVENT
END:VCALENDAR
