BEGIN:VCALENDAR
PRODID;X-RICAL-TZSOURCE=TZINFO:-//com.denhaven2/NONSGML ri_cal gem//EN
CALSCALE:GREGORIAN
VERSION:2.0
BEGIN:VEVENT
CONTACT:
DTEND;VALUE=DATE:20140407
DTSTART;VALUE=DATE:20140406
UID:1977324
DESCRIPTION:First Solo Event of the 2014 Season is a non-spectator event 
 at Pungo Airfield in Virginia Beach\, VA.
URL:
SUMMARY:April 2014 Non-Spectator Solo
LOCATION:
BEGIN:VALARM
TRIGGER:-PT15H
DESCRIPTION:April 2014 Non-Spectator Solo
ACTION:AUDIO
END:VALARM
END:VEVENT
END:VCALENDAR
