BEGIN:VCALENDAR
PRODID;X-RICAL-TZSOURCE=TZINFO:-//com.denhaven2/NONSGML ri_cal gem//EN
CALSCALE:GREGORIAN
VERSION:2.0
BEGIN:VEVENT
CONTACT:
DTEND;VALUE=DATE:20140707
DTSTART;VALUE=DATE:20140706
UID:1977228
DESCRIPTION:Fourth event of the Old Dominion Region's 2014 Solo Champions
 hip season held at Pungo airfield in Virginia Beach\, VA.
URL:
SUMMARY:July 2014 Non-Spectator Solo
LOCATION:
BEGIN:VALARM
TRIGGER:-PT15H
DESCRIPTION:July 2014 Non-Spectator Solo
ACTION:AUDIO
END:VALARM
END:VEVENT
END:VCALENDAR
