BEGIN:VCALENDAR
PRODID;X-RICAL-TZSOURCE=TZINFO:-//com.denhaven2/NONSGML ri_cal gem//EN
CALSCALE:GREGORIAN
VERSION:2.0
BEGIN:VEVENT
CONTACT:
DTEND;VALUE=DATE:20140428
DTSTART;VALUE=DATE:20140426
GEO:31.1383827;-83.712052
UID:1977210
DESCRIPTION:The sun is out and the heat is on\, it's time to burn that ru
 bber and melt some cones. Join us at Spence Field for another round of g
 ood ol' Dixie Region fun!!!
URL:
SUMMARY:Dixie Region Solo 2014 Event #4
LOCATION:Spence Field
BEGIN:VALARM
TRIGGER:-PT15H
DESCRIPTION:Dixie Region Solo 2014 Event #4
ACTION:AUDIO
END:VALARM
END:VEVENT
END:VCALENDAR
