BEGIN:VCALENDAR
PRODID;X-RICAL-TZSOURCE=TZINFO:-//com.denhaven2/NONSGML ri_cal gem//EN
CALSCALE:GREGORIAN
VERSION:2.0
BEGIN:VEVENT
CONTACT:
DTEND;VALUE=DATE:20140602
DTSTART;VALUE=DATE:20140601
UID:1976990
DESCRIPTION:Third in a series of eight events for the 2014 Old Dominion R
 egion's Solo Championship series.
URL:
SUMMARY:June 2014 Non-Spectator Solo
LOCATION:
BEGIN:VALARM
TRIGGER:-PT15H
DESCRIPTION:June 2014 Non-Spectator Solo
ACTION:AUDIO
END:VALARM
END:VEVENT
END:VCALENDAR
