BEGIN:VCALENDAR
PRODID;X-RICAL-TZSOURCE=TZINFO:-//com.denhaven2/NONSGML ri_cal gem//EN
CALSCALE:GREGORIAN
VERSION:2.0
BEGIN:VEVENT
CONTACT:
DTEND;VALUE=DATE:20140407
DTSTART;VALUE=DATE:20140406
UID:1976914
DESCRIPTION:First of 7 points events.  All are welcome to participate!
URL:
SUMMARY:WDCR Championship Event #1
LOCATION:
BEGIN:VALARM
TRIGGER:-PT15H
DESCRIPTION:WDCR Championship Event #1
ACTION:AUDIO
END:VALARM
END:VEVENT
END:VCALENDAR
