BEGIN:VCALENDAR
PRODID;X-RICAL-TZSOURCE=TZINFO:-//com.denhaven2/NONSGML ri_cal gem//EN
CALSCALE:GREGORIAN
VERSION:2.0
BEGIN:VEVENT
CONTACT:
DTEND;VALUE=DATE:20140224
DTSTART;VALUE=DATE:20140223
GEO:42.057788;-80.04347
UID:1976812
DESCRIPTION:
URL:
SUMMARY:Misery Bay Sno-Go-Tour Rally 
LOCATION:Burger King
BEGIN:VALARM
TRIGGER:-PT15H
DESCRIPTION:Misery Bay Sno-Go-Tour Rally 
ACTION:AUDIO
END:VALARM
END:VEVENT
END:VCALENDAR
