BEGIN:VCALENDAR
PRODID;X-RICAL-TZSOURCE=TZINFO:-//com.denhaven2/NONSGML ri_cal gem//EN
CALSCALE:GREGORIAN
VERSION:2.0
BEGIN:VEVENT
CONTACT:
DTEND;VALUE=DATE:20140519
DTSTART;VALUE=DATE:20140517
GEO:40.462672;-79.207982
UID:1976806
DESCRIPTION:
URL:
SUMMARY:Allegheny Highlands Regional Solo 
LOCATION:Wyotech
BEGIN:VALARM
TRIGGER:-PT15H
DESCRIPTION:Allegheny Highlands Regional Solo 
ACTION:AUDIO
END:VALARM
END:VEVENT
END:VCALENDAR
