BEGIN:VCALENDAR
PRODID;X-RICAL-TZSOURCE=TZINFO:-//com.denhaven2/NONSGML ri_cal gem//EN
CALSCALE:GREGORIAN
VERSION:2.0
BEGIN:VEVENT
CONTACT:
DTEND;VALUE=DATE:20140525
DTSTART;VALUE=DATE:20140524
GEO:40.706848;-73.592156
UID:1976656
DESCRIPTION:Solo season!
URL:
SUMMARY:Solo Points #2
LOCATION:Nassau Coliseum Lot #8
BEGIN:VALARM
TRIGGER:-PT15H
DESCRIPTION:Solo Points #2
ACTION:AUDIO
END:VALARM
END:VEVENT
END:VCALENDAR
