BEGIN:VCALENDAR
PRODID;X-RICAL-TZSOURCE=TZINFO:-//com.denhaven2/NONSGML ri_cal gem//EN
CALSCALE:GREGORIAN
VERSION:2.0
BEGIN:VEVENT
CONTACT:
DTEND;VALUE=DATE:20140420
DTSTART;VALUE=DATE:20140419
GEO:39.068359;-104.517754
UID:1976474
DESCRIPTION:
URL:
SUMMARY:Alternative Driver School
LOCATION:Pikes Peak International Raceway
BEGIN:VALARM
TRIGGER:-PT15H
DESCRIPTION:Alternative Driver School
ACTION:AUDIO
END:VALARM
END:VEVENT
END:VCALENDAR
