BEGIN:VCALENDAR
PRODID;X-RICAL-TZSOURCE=TZINFO:-//com.denhaven2/NONSGML ri_cal gem//EN
CALSCALE:GREGORIAN
VERSION:2.0
BEGIN:VEVENT
CONTACT:
DTEND;VALUE=DATE:20140616
DTSTART;VALUE=DATE:20140613
GEO:37.408227;-121.109461
UID:1975810
DESCRIPTION:
URL:
SUMMARY:2014 Crows Landing Championship Tour
LOCATION:Crows Landing
BEGIN:VALARM
TRIGGER:-PT15H
DESCRIPTION:2014 Crows Landing Championship Tour
ACTION:AUDIO
END:VALARM
END:VEVENT
END:VCALENDAR
