BEGIN:VCALENDAR
PRODID;X-RICAL-TZSOURCE=TZINFO:-//com.denhaven2/NONSGML ri_cal gem//EN
CALSCALE:GREGORIAN
VERSION:2.0
BEGIN:VEVENT
CONTACT:
DTEND;VALUE=DATE:20120730
DTSTART;VALUE=DATE:20120729
GEO:40.8447025;-80.330889
UID:1975726
DESCRIPTION:
URL:
SUMMARY:Steel Cities Region Club Trails Wilson Circuit at Pittsburgh Int'
 l Race Complex
LOCATION:Pittsburgh International Race Complex
BEGIN:VALARM
TRIGGER:-PT15H
DESCRIPTION:Steel Cities Region Club Trails Wilson Circuit at Pittsburgh 
 Int'l Race Complex
ACTION:AUDIO
END:VALARM
END:VEVENT
END:VCALENDAR
