BEGIN:VCALENDAR
PRODID;X-RICAL-TZSOURCE=TZINFO:-//com.denhaven2/NONSGML ri_cal gem//EN
CALSCALE:GREGORIAN
VERSION:2.0
BEGIN:VEVENT
CONTACT:
DTEND;VALUE=DATE:20090316
DTSTART;VALUE=DATE:20090314
GEO:31.06347;-83.375875
UID:1975708
DESCRIPTION:
URL:
SUMMARY:2009 Dixie National Tour
LOCATION:Cecil\, GA
BEGIN:VALARM
TRIGGER:-PT15H
DESCRIPTION:2009 Dixie National Tour
ACTION:AUDIO
END:VALARM
END:VEVENT
END:VCALENDAR
