BEGIN:VCALENDAR
PRODID;X-RICAL-TZSOURCE=TZINFO:-//com.denhaven2/NONSGML ri_cal gem//EN
CALSCALE:GREGORIAN
VERSION:2.0
BEGIN:VEVENT
CONTACT:
DTEND;VALUE=DATE:20140602
DTSTART;VALUE=DATE:20140601
UID:1975654
DESCRIPTION:CFR SCCA Brooksville Solo (Autocross) Points Event\nThis even
 t will be held at the all concrete\, very grippy\, Brooksville/Hernando 
 County Airport in Brooksville\, FL.  This will be the 2014 Championship 
 Points event  #10.  Event trophies for each class will be awarded and cl
 ass championship points will be accrued\n\nVERY IMPORTANT: Due to site r
 estrictions from the Airport\, all drivers and guests must pre-register 
 and pre-pay for this event no later than Thursday\, May 22nd. There will
  be NO On-SITE REGISTRATION. Drivers must register using the "Registrati
 on" link below. Guests please send first/last name and cell phone number
  via email to dwelsh56@hotmail.com.  \n\nGuests: Please see registration
  acknowledgements for details.  \n\nNovices are always welcome! (But mus
 t also pre-register) Get more novice info here: Getting Started\n\nWhat 
 to Bring:\nValid Driver's License (or permit)\nValid SCCA Membership Car
 d (or proof of membership)\nNon-Members\, get your Weekend SCCA membersh
 ip here on DLB\nMinors (under 18)\, bring a completed minor waiver\, see
  details below\nWATER (it can get hot!)\n\nFood\nThere will be lunch pro
 vided on thanks to our volunteer who will arrange for and pickup the foo
 d!  There will be a $5 charge for each guest who wants to eat the provid
 ed lunch.\n\nSite Information\nPLEASE download the site flyer for import
 ant site access information (there is a download link at the bottom of t
 his page).\n\nWhy Preregister and Prepay?\nBecause for this site\, if yo
 u want to attend\, YOU MUST PRE-REGISTER and Pre-Pay.\nSee the registrat
 ion acknowledgements for details on refunds/credits\n\nMinors (Under 18)
 \nMinor drivers or riders must bring a completed\, notarized\, minor wai
 ver signed by BOTH parents. (Notary waived If both parents are present t
 o sign on site)\nMinor attendees must have minor waiver completed by at 
 least one parent/guardian\nGet Minor Waiver here: Minor Waiver\n\nFees\n
 $30 Entry Fee\n$10 SCCA Weekend Membership fee for non SCCA Members
URL:
SUMMARY:CFR Solo - Brooksville June
LOCATION:
BEGIN:VALARM
TRIGGER:-PT15H
DESCRIPTION:CFR Solo - Brooksville June
ACTION:AUDIO
END:VALARM
END:VEVENT
END:VCALENDAR
