BEGIN:VCALENDAR
PRODID;X-RICAL-TZSOURCE=TZINFO:-//com.denhaven2/NONSGML ri_cal gem//EN
CALSCALE:GREGORIAN
VERSION:2.0
BEGIN:VEVENT
CONTACT:
DTEND;VALUE=DATE:20130422
DTSTART;VALUE=DATE:20130421
GEO:30.034818;-91.059292
UID:1975650
DESCRIPTION:
URL:
SUMMARY:Delta CENLA Extra Event
LOCATION:Circuit Grand Bayou
BEGIN:VALARM
TRIGGER:-PT15H
DESCRIPTION:Delta CENLA Extra Event
ACTION:AUDIO
END:VALARM
END:VEVENT
END:VCALENDAR
