BEGIN:VCALENDAR
PRODID;X-RICAL-TZSOURCE=TZINFO:-//com.denhaven2/NONSGML ri_cal gem//EN
CALSCALE:GREGORIAN
VERSION:2.0
BEGIN:VEVENT
CONTACT:
DTEND;VALUE=DATE:20140428
DTSTART;VALUE=DATE:20140426
GEO:40.42404;-86.9173
UID:1975638
DESCRIPTION:
URL:
SUMMARY:Fort Wayne Regional Solo 
LOCATION:Indiana Purdue University
BEGIN:VALARM
TRIGGER:-PT15H
DESCRIPTION:Fort Wayne Regional Solo 
ACTION:AUDIO
END:VALARM
END:VEVENT
END:VCALENDAR
