BEGIN:VCALENDAR
PRODID;X-RICAL-TZSOURCE=TZINFO:-//com.denhaven2/NONSGML ri_cal gem//EN
CALSCALE:GREGORIAN
VERSION:2.0
BEGIN:VEVENT
CONTACT:
DTEND;VALUE=DATE:20090316
DTSTART;VALUE=DATE:20090314
GEO:35.2867035;-89.922192
UID:1975624
DESCRIPTION:
URL:
SUMMARY:MIDSOUTH MAR 14-15\, 2009 DBL NATIONAL TEST DAY
LOCATION:Memphis International Raceway
BEGIN:VALARM
TRIGGER:-PT15H
DESCRIPTION:MIDSOUTH MAR 14-15\, 2009 DBL NATIONAL TEST DAY
ACTION:AUDIO
END:VALARM
END:VEVENT
END:VCALENDAR
