BEGIN:VCALENDAR
PRODID;X-RICAL-TZSOURCE=TZINFO:-//com.denhaven2/NONSGML ri_cal gem//EN
CALSCALE:GREGORIAN
VERSION:2.0
BEGIN:VEVENT
CONTACT:
DTEND;VALUE=DATE:20140217
DTSTART;VALUE=DATE:20140216
GEO:30.096921;-90.21268
UID:1975620
DESCRIPTION:
URL:
SUMMARY:"Kiss the Cones" Autocross
LOCATION:Zephyrs Stadium
BEGIN:VALARM
TRIGGER:-PT15H
DESCRIPTION:"Kiss the Cones" Autocross
ACTION:AUDIO
END:VALARM
END:VEVENT
END:VCALENDAR
