BEGIN:VCALENDAR
PRODID;X-RICAL-TZSOURCE=TZINFO:-//com.denhaven2/NONSGML ri_cal gem//EN
CALSCALE:GREGORIAN
VERSION:2.0
BEGIN:VEVENT
CONTACT:
DTEND;VALUE=DATE:20120611
DTSTART;VALUE=DATE:20120608
GEO:39.3591;-75.06077
UID:1975598
DESCRIPTION:
URL:
SUMMARY:Formula 1000 at New Jersey on 6/8/12-6/10/12
LOCATION:New Jersey Motorsports Park
BEGIN:VALARM
TRIGGER:-PT15H
DESCRIPTION:Formula 1000 at New Jersey on 6/8/12-6/10/12
ACTION:AUDIO
END:VALARM
END:VEVENT
END:VCALENDAR
