BEGIN:VCALENDAR
PRODID;X-RICAL-TZSOURCE=TZINFO:-//com.denhaven2/NONSGML ri_cal gem//EN
CALSCALE:GREGORIAN
VERSION:2.0
BEGIN:VEVENT
CONTACT:
DTEND;VALUE=DATE:20140602
DTSTART;VALUE=DATE:20140601
GEO:39.89075;-82.956005
UID:1975574
DESCRIPTION:
URL:
SUMMARY:Ohio Valley Regional Solo 
LOCATION:Columbus Fair Auto Auction
BEGIN:VALARM
TRIGGER:-PT15H
DESCRIPTION:Ohio Valley Regional Solo 
ACTION:AUDIO
END:VALARM
END:VEVENT
END:VCALENDAR
