BEGIN:VCALENDAR
PRODID;X-RICAL-TZSOURCE=TZINFO:-//com.denhaven2/NONSGML ri_cal gem//EN
CALSCALE:GREGORIAN
VERSION:2.0
BEGIN:VEVENT
CONTACT:
DTEND;VALUE=DATE:20080504
DTSTART;VALUE=DATE:20080501
GEO:39.085612;-94.584134
UID:1975440
DESCRIPTION:
URL:
SUMMARY:zzzzzzzzz
LOCATION:Westin Crown Center
BEGIN:VALARM
TRIGGER:-PT15H
DESCRIPTION:zzzzzzzzz
ACTION:AUDIO
END:VALARM
END:VEVENT
END:VCALENDAR
