BEGIN:VCALENDAR
PRODID;X-RICAL-TZSOURCE=TZINFO:-//com.denhaven2/NONSGML ri_cal gem//EN
CALSCALE:GREGORIAN
VERSION:2.0
BEGIN:VEVENT
CONTACT:
DTEND;VALUE=DATE:20120702
DTSTART;VALUE=DATE:20120629
GEO:39.3591;-75.06077
UID:1975324
DESCRIPTION:
URL:
SUMMARY:Trans-Am & Atlantic Championship Series at New Jersey on 6/29/12-
 7/1/12
LOCATION:New Jersey Motorsports Park
BEGIN:VALARM
TRIGGER:-PT15H
DESCRIPTION:Trans-Am & Atlantic Championship Series at New Jersey on 6/29
 /12-7/1/12
ACTION:AUDIO
END:VALARM
END:VEVENT
END:VCALENDAR
