BEGIN:VCALENDAR
PRODID;X-RICAL-TZSOURCE=TZINFO:-//com.denhaven2/NONSGML ri_cal gem//EN
CALSCALE:GREGORIAN
VERSION:2.0
BEGIN:VEVENT
CONTACT:
DTEND;VALUE=DATE:20120521
DTSTART;VALUE=DATE:20120518
GEO:43.9179;-78.6855
UID:1975230
DESCRIPTION:
URL:
SUMMARY:Formula 1000 & Trans-am Pro Racing at Mosport on 5/18/12-5/20/12
LOCATION:Mosport International Raceway
BEGIN:VALARM
TRIGGER:-PT15H
DESCRIPTION:Formula 1000 & Trans-am Pro Racing at Mosport on 5/18/12-5/20
 /12
ACTION:AUDIO
END:VALARM
END:VEVENT
END:VCALENDAR
