BEGIN:VCALENDAR
PRODID;X-RICAL-TZSOURCE=TZINFO:-//com.denhaven2/NONSGML ri_cal gem//EN
CALSCALE:GREGORIAN
VERSION:2.0
BEGIN:VEVENT
CONTACT:
DTEND;VALUE=DATE:20110731
DTSTART;VALUE=DATE:20110730
GEO:40.8447025;-80.330889
UID:1975080
DESCRIPTION:
URL:
SUMMARY:Steel Cities Club Trial at BeaveRun Motorsports Complex 
LOCATION:Pittsburgh International Race Complex
BEGIN:VALARM
TRIGGER:-PT15H
DESCRIPTION:Steel Cities Club Trial at BeaveRun Motorsports Complex 
ACTION:AUDIO
END:VALARM
END:VEVENT
END:VCALENDAR
