BEGIN:VCALENDAR
PRODID;X-RICAL-TZSOURCE=TZINFO:-//com.denhaven2/NONSGML ri_cal gem//EN
CALSCALE:GREGORIAN
VERSION:2.0
BEGIN:VEVENT
CONTACT:
DTEND;VALUE=DATE:20140310
DTSTART;VALUE=DATE:20140309
GEO:30.096921;-90.21268
UID:1975028
DESCRIPTION:	Delta Region SCCA's second event of 2014\, hopefully everyon
 e has shaken the Mardi Gras hangovers! :)
URL:
SUMMARY:Krewe of Kones Autocross
LOCATION:Zephyrs Stadium
BEGIN:VALARM
TRIGGER:-PT15H
DESCRIPTION:Krewe of Kones Autocross
ACTION:AUDIO
END:VALARM
END:VEVENT
END:VCALENDAR
