BEGIN:VCALENDAR
PRODID;X-RICAL-TZSOURCE=TZINFO:-//com.denhaven2/NONSGML ri_cal gem//EN
CALSCALE:GREGORIAN
VERSION:2.0
BEGIN:VEVENT
CONTACT:
DTEND;VALUE=DATE:20080505
DTSTART;VALUE=DATE:20080503
UID:1974990
DESCRIPTION:
URL:
SUMMARY:INDIANAPOLIS MAY 3-4 REGIONALS
LOCATION:O'Reilly Raceway Park
BEGIN:VALARM
TRIGGER:-PT15H
DESCRIPTION:INDIANAPOLIS MAY 3-4 REGIONALS
ACTION:AUDIO
END:VALARM
END:VEVENT
END:VCALENDAR
