BEGIN:VCALENDAR
PRODID;X-RICAL-TZSOURCE=TZINFO:-//com.denhaven2/NONSGML ri_cal gem//EN
CALSCALE:GREGORIAN
VERSION:2.0
BEGIN:VEVENT
CONTACT:
DTEND;VALUE=DATE:20090908
DTSTART;VALUE=DATE:20090905
GEO:27.450897;-81.358373
UID:1974960
DESCRIPTION:
URL:
SUMMARY:CENTRAL FLORIDA SEPTEMBER 5-6 REGIONAL ENDURO
LOCATION:Sebring International Raceway
BEGIN:VALARM
TRIGGER:-PT15H
DESCRIPTION:CENTRAL FLORIDA SEPTEMBER 5-6 REGIONAL ENDURO
ACTION:AUDIO
END:VALARM
END:VEVENT
END:VCALENDAR
