BEGIN:VCALENDAR
PRODID;X-RICAL-TZSOURCE=TZINFO:-//com.denhaven2/NONSGML ri_cal gem//EN
CALSCALE:GREGORIAN
VERSION:2.0
BEGIN:VEVENT
CONTACT:
DTEND;VALUE=DATE:20130520
DTSTART;VALUE=DATE:20130518
UID:1974952
DESCRIPTION:
URL:
SUMMARY:Trans-AM at CTMP on 5/18/13 to 5/19/13
LOCATION:
BEGIN:VALARM
TRIGGER:-PT15H
DESCRIPTION:Trans-AM at CTMP on 5/18/13 to 5/19/13
ACTION:AUDIO
END:VALARM
END:VEVENT
END:VCALENDAR
