BEGIN:VCALENDAR
PRODID;X-RICAL-TZSOURCE=TZINFO:-//com.denhaven2/NONSGML ri_cal gem//EN
CALSCALE:GREGORIAN
VERSION:2.0
BEGIN:VEVENT
CONTACT:
DTEND;VALUE=DATE:20140520
DTSTART;VALUE=DATE:20140517
GEO:31.117296;-83.434235
UID:1974850
DESCRIPTION:\n\nTEST\nTest\ntest
URL:
SUMMARY:2014 Atlanta Match Tour
LOCATION:South Georgia Motorsports Park
BEGIN:VALARM
TRIGGER:-PT15H
DESCRIPTION:2014 Atlanta Match Tour
ACTION:AUDIO
END:VALARM
END:VEVENT
END:VCALENDAR
