BEGIN:VCALENDAR
PRODID;X-RICAL-TZSOURCE=TZINFO:-//com.denhaven2/NONSGML ri_cal gem//EN
CALSCALE:GREGORIAN
VERSION:2.0
BEGIN:VEVENT
CONTACT:
DTEND;VALUE=DATE:20120611
DTSTART;VALUE=DATE:20120608
GEO:40.6563685;-82.6897955
UID:1974808
DESCRIPTION:
URL:
SUMMARY:Trans-Am and Mazda MX 5 Cup at Mid-Ohio on 6/8/12-6/10/12
LOCATION:Mid-Ohio Sports Car Course
BEGIN:VALARM
TRIGGER:-PT15H
DESCRIPTION:Trans-Am and Mazda MX 5 Cup at Mid-Ohio on 6/8/12-6/10/12
ACTION:AUDIO
END:VALARM
END:VEVENT
END:VCALENDAR
