BEGIN:VCALENDAR
PRODID;X-RICAL-TZSOURCE=TZINFO:-//com.denhaven2/NONSGML ri_cal gem//EN
CALSCALE:GREGORIAN
VERSION:2.0
BEGIN:VEVENT
CONTACT:
DTEND;VALUE=DATE:20100719
DTSTART;VALUE=DATE:20100717
GEO:32.1702065;-81.3301975
UID:1974746
DESCRIPTION:
URL:
SUMMARY:South Carolina July 17-18 Track Trail & PDX - Roebling Road Racew
 ay
LOCATION:Roebling Road
BEGIN:VALARM
TRIGGER:-PT15H
DESCRIPTION:South Carolina July 17-18 Track Trail & PDX - Roebling Road R
 aceway
ACTION:AUDIO
END:VALARM
END:VEVENT
END:VCALENDAR
