BEGIN:VCALENDAR
PRODID;X-RICAL-TZSOURCE=TZINFO:-//com.denhaven2/NONSGML ri_cal gem//EN
CALSCALE:GREGORIAN
VERSION:2.0
BEGIN:VEVENT
CONTACT:
DTEND;VALUE=DATE:20140407
DTSTART;VALUE=DATE:20140405
GEO:39.611754;-119.2222065
UID:1974718
DESCRIPTION:
URL:www.renoscca.org
SUMMARY:Volunteer Training PDX/Test & Tune (Apr. 6)
LOCATION:Reno-Fernley Raceway
BEGIN:VALARM
TRIGGER:-PT15H
DESCRIPTION:Volunteer Training PDX/Test & Tune (Apr. 6)
ACTION:AUDIO
END:VALARM
END:VEVENT
END:VCALENDAR
