BEGIN:VCALENDAR
PRODID;X-RICAL-TZSOURCE=TZINFO:-//com.denhaven2/NONSGML ri_cal gem//EN
CALSCALE:GREGORIAN
VERSION:2.0
BEGIN:VEVENT
CONTACT:
DTEND;VALUE=DATE:20110919
DTSTART;VALUE=DATE:20110917
GEO:34.48816;-80.59572
UID:1974688
DESCRIPTION:
URL:
SUMMARY:The Endless Summer PDX/Club Trial/Dbl CCPS/ECR at Carolina Motors
 ports Park
LOCATION:Carolina Motorsports Park
BEGIN:VALARM
TRIGGER:-PT15H
DESCRIPTION:The Endless Summer PDX/Club Trial/Dbl CCPS/ECR at Carolina Mo
 torsports Park
ACTION:AUDIO
END:VALARM
END:VEVENT
END:VCALENDAR
