BEGIN:VCALENDAR
PRODID;X-RICAL-TZSOURCE=TZINFO:-//com.denhaven2/NONSGML ri_cal gem//EN
CALSCALE:GREGORIAN
VERSION:2.0
BEGIN:VEVENT
CONTACT:
DTEND;VALUE=DATE:20080810
DTSTART;VALUE=DATE:20080808
GEO:40.6563685;-82.6897955
UID:1974656
DESCRIPTION:
URL:
SUMMARY:CINCINNATI AUG 8-9 PDX
LOCATION:Mid-Ohio Sports Car Course
BEGIN:VALARM
TRIGGER:-PT15H
DESCRIPTION:CINCINNATI AUG 8-9 PDX
ACTION:AUDIO
END:VALARM
END:VEVENT
END:VCALENDAR
