BEGIN:VCALENDAR
PRODID;X-RICAL-TZSOURCE=TZINFO:-//com.denhaven2/NONSGML ri_cal gem//EN
CALSCALE:GREGORIAN
VERSION:2.0
BEGIN:VEVENT
CONTACT:
DTEND;VALUE=DATE:20120625
DTSTART;VALUE=DATE:20120622
GEO:43.9179;-78.6855
UID:1974630
DESCRIPTION:
URL:
SUMMARY:World Challenge at Mosport - TCB on 6/22/12-6/24/12
LOCATION:Mosport International Raceway
BEGIN:VALARM
TRIGGER:-PT15H
DESCRIPTION:World Challenge at Mosport - TCB on 6/22/12-6/24/12
ACTION:AUDIO
END:VALARM
END:VEVENT
END:VCALENDAR
