BEGIN:VCALENDAR
PRODID;X-RICAL-TZSOURCE=TZINFO:-//com.denhaven2/NONSGML ri_cal gem//EN
CALSCALE:GREGORIAN
VERSION:2.0
BEGIN:VEVENT
CONTACT:
DTEND;VALUE=DATE:20110619
DTSTART;VALUE=DATE:20110616
GEO:43.811897;-87.948265
UID:1974626
DESCRIPTION:
URL:
SUMMARY:Road America MX-5 6/16/11 - 6/18/11
LOCATION:Road America
BEGIN:VALARM
TRIGGER:-PT15H
DESCRIPTION:Road America MX-5 6/16/11 - 6/18/11
ACTION:AUDIO
END:VALARM
END:VEVENT
END:VCALENDAR
