BEGIN:VCALENDAR
PRODID;X-RICAL-TZSOURCE=TZINFO:-//com.denhaven2/NONSGML ri_cal gem//EN
CALSCALE:GREGORIAN
VERSION:2.0
BEGIN:VEVENT
CONTACT:
DTEND;VALUE=DATE:20111017
DTSTART;VALUE=DATE:20111015
GEO:32.232994;-109.859256
UID:1974514
DESCRIPTION:
URL:
SUMMARY:2011 & 2012 Arizona Region Saguaro Series #1 & #2 and PDX at Inde
  Motorsports Ranch
LOCATION:Inde Motorsports Ranch
BEGIN:VALARM
TRIGGER:-PT15H
DESCRIPTION:2011 & 2012 Arizona Region Saguaro Series #1 & #2 and PDX at 
 Inde Motorsports Ranch
ACTION:AUDIO
END:VALARM
END:VEVENT
END:VCALENDAR
