BEGIN:VCALENDAR
PRODID;X-RICAL-TZSOURCE=TZINFO:-//com.denhaven2/NONSGML ri_cal gem//EN
CALSCALE:GREGORIAN
VERSION:2.0
BEGIN:VEVENT
CONTACT:
DTEND;VALUE=DATE:20090611
DTSTART;VALUE=DATE:20090610
GEO:38.653931;-90.137993
UID:1974454
DESCRIPTION:
URL:
SUMMARY:ST LOUIS JUNE 10 PDX
LOCATION:Gateway Motorsports Park
BEGIN:VALARM
TRIGGER:-PT15H
DESCRIPTION:ST LOUIS JUNE 10 PDX
ACTION:AUDIO
END:VALARM
END:VEVENT
END:VCALENDAR
