BEGIN:VCALENDAR
PRODID;X-RICAL-TZSOURCE=TZINFO:-//com.denhaven2/NONSGML ri_cal gem//EN
CALSCALE:GREGORIAN
VERSION:2.0
BEGIN:VEVENT
CONTACT:
DTEND;VALUE=DATE:20080728
DTSTART;VALUE=DATE:20080725
GEO:45.5957725;-122.6889775
UID:1974452
DESCRIPTION:
URL:
SUMMARY:Oregon July 25-27 One Class Regional
LOCATION:Portland International Raceway
BEGIN:VALARM
TRIGGER:-PT15H
DESCRIPTION:Oregon July 25-27 One Class Regional
ACTION:AUDIO
END:VALARM
END:VEVENT
END:VCALENDAR
