BEGIN:VCALENDAR
PRODID;X-RICAL-TZSOURCE=TZINFO:-//com.denhaven2/NONSGML ri_cal gem//EN
CALSCALE:GREGORIAN
VERSION:2.0
BEGIN:VEVENT
CONTACT:
DTEND;VALUE=DATE:20140428
DTSTART;VALUE=DATE:20140426
GEO:42.70528;-83.40119
UID:1974400
DESCRIPTION:
URL:www.waterfordhills.com
SUMMARY:WHIRRI/GL Drivers School
LOCATION:Waterford Hills Road Racing Inc.
BEGIN:VALARM
TRIGGER:-PT15H
DESCRIPTION:WHIRRI/GL Drivers School
ACTION:AUDIO
END:VALARM
END:VEVENT
END:VCALENDAR
