BEGIN:VCALENDAR
PRODID;X-RICAL-TZSOURCE=TZINFO:-//com.denhaven2/NONSGML ri_cal gem//EN
CALSCALE:GREGORIAN
VERSION:2.0
BEGIN:VEVENT
CONTACT:
DTEND;VALUE=DATE:20081020
DTSTART;VALUE=DATE:20081018
GEO:41.309998;-81.0149
UID:1974332
DESCRIPTION:
URL:
SUMMARY:MAHONING VALLEY OCT 18-19 DOUBLE REGIONAL
LOCATION:Nelson Ledges Road Course
BEGIN:VALARM
TRIGGER:-PT15H
DESCRIPTION:MAHONING VALLEY OCT 18-19 DOUBLE REGIONAL
ACTION:AUDIO
END:VALARM
END:VEVENT
END:VCALENDAR
