BEGIN:VCALENDAR
PRODID;X-RICAL-TZSOURCE=TZINFO:-//com.denhaven2/NONSGML ri_cal gem//EN
CALSCALE:GREGORIAN
VERSION:2.0
BEGIN:VEVENT
CONTACT:
DTEND;VALUE=DATE:20110711
DTSTART;VALUE=DATE:20110709
UID:1974298
DESCRIPTION:
URL:
SUMMARY:Mazda Raceway Mx-5 7/9/11 - 7/10/11
LOCATION:
BEGIN:VALARM
TRIGGER:-PT15H
DESCRIPTION:Mazda Raceway Mx-5 7/9/11 - 7/10/11
ACTION:AUDIO
END:VALARM
END:VEVENT
END:VCALENDAR
