BEGIN:VCALENDAR
PRODID;X-RICAL-TZSOURCE=TZINFO:-//com.denhaven2/NONSGML ri_cal gem//EN
CALSCALE:GREGORIAN
VERSION:2.0
BEGIN:VEVENT
CONTACT:
DTEND;VALUE=DATE:20080609
DTSTART;VALUE=DATE:20080607
GEO:35.9445356;-82.5187464
UID:1974288
DESCRIPTION:
URL:
SUMMARY:CENTRAL CAROLINA JUNE 7-8 HILL CLIMB
LOCATION:Wolf Ridge - Mars Hill\, NC
BEGIN:VALARM
TRIGGER:-PT15H
DESCRIPTION:CENTRAL CAROLINA JUNE 7-8 HILL CLIMB
ACTION:AUDIO
END:VALARM
END:VEVENT
END:VCALENDAR
