BEGIN:VCALENDAR
PRODID;X-RICAL-TZSOURCE=TZINFO:-//com.denhaven2/NONSGML ri_cal gem//EN
CALSCALE:GREGORIAN
VERSION:2.0
BEGIN:VEVENT
CONTACT:
DTEND;VALUE=DATE:20140310
DTSTART;VALUE=DATE:20140307
GEO:25.4547985;-80.412115
UID:1974272
DESCRIPTION:
URL:
SUMMARY:Trans Am event at Homestead on 3/7/14 to 3/9/14
LOCATION:Homestead-Miami Speedway
BEGIN:VALARM
TRIGGER:-PT15H
DESCRIPTION:Trans Am event at Homestead on 3/7/14 to 3/9/14
ACTION:AUDIO
END:VALARM
END:VEVENT
END:VCALENDAR
