BEGIN:VCALENDAR
PRODID;X-RICAL-TZSOURCE=TZINFO:-//com.denhaven2/NONSGML ri_cal gem//EN
CALSCALE:GREGORIAN
VERSION:2.0
BEGIN:VEVENT
CONTACT:
DTEND;VALUE=DATE:20110807
DTSTART;VALUE=DATE:20110805
GEO:39.69;-78.52
UID:1974216
DESCRIPTION:
URL:
SUMMARY:2011 Polish Mountain Hillclimb at Flintstone\, MD
LOCATION:Polish Mountain\, Flintstone\, MD
BEGIN:VALARM
TRIGGER:-PT15H
DESCRIPTION:2011 Polish Mountain Hillclimb at Flintstone\, MD
ACTION:AUDIO
END:VALARM
END:VEVENT
END:VCALENDAR
