BEGIN:VCALENDAR
PRODID;X-RICAL-TZSOURCE=TZINFO:-//com.denhaven2/NONSGML ri_cal gem//EN
CALSCALE:GREGORIAN
VERSION:2.0
BEGIN:VEVENT
CONTACT:
DTEND;VALUE=DATE:20110808
DTSTART;VALUE=DATE:20110806
GEO:45.5957725;-122.6889775
UID:1974212
DESCRIPTION:
URL:
SUMMARY:Double Regional at Portland Int'l Raceway
LOCATION:Portland International Raceway
BEGIN:VALARM
TRIGGER:-PT15H
DESCRIPTION:Double Regional at Portland Int'l Raceway
ACTION:AUDIO
END:VALARM
END:VEVENT
END:VCALENDAR
