BEGIN:VCALENDAR
PRODID;X-RICAL-TZSOURCE=TZINFO:-//com.denhaven2/NONSGML ri_cal gem//EN
CALSCALE:GREGORIAN
VERSION:2.0
BEGIN:VEVENT
CONTACT:
DTEND;VALUE=DATE:20090907
DTSTART;VALUE=DATE:20090905
GEO:40.6563685;-82.6897955
UID:1974186
DESCRIPTION:
URL:
SUMMARY:OHIO VALLEY SEPTEMBER 5-6 DOUBLE REGIONAL PDX
LOCATION:Mid-Ohio Sports Car Course
BEGIN:VALARM
TRIGGER:-PT15H
DESCRIPTION:OHIO VALLEY SEPTEMBER 5-6 DOUBLE REGIONAL PDX
ACTION:AUDIO
END:VALARM
END:VEVENT
END:VCALENDAR
